BEGIN:VCALENDAR
VERSION:2.0
PRODID:-//eventon.com NONSGML v1.0//EN
BEGIN:VEVENT
UID:69eb9a3faef23
DTSTAMP:20260424T162847
DTSTART:20171006T000000Z
DTEND:20171008T235900Z
LOCATION:Visit Greater St. Charles\,  Illinois 2 E. Main Street\,  Saint Charles\,  Illinois 60174
SUMMARY:St. Charles Scarecrow Fest
DESCRIPTION: Join generations of visitors who flock to the annual St. Charles Scarecrow Fest every year! For over 30 years\,  this award-winning festival has brought heartwarming memories to both children and adults\,  and is a tradition for thousands of families across the Midwest. The heart and soul of the festival is[..]
END:VEVENT
END:VCALENDAR